BEGIN:VCALENDAR
VERSION:2.0
PRODID:-//ChamberMaster//Event Calendar 2.0//EN
METHOD:PUBLISH
X-PUBLISHED-TTL:P3D
REFRESH-INTERVAL:P3D
CALSCALE:GREGORIAN
BEGIN:VEVENT
DTSTART:20260422T160000Z
DTEND:20260422T170000Z
X-MICROSOFT-CDO-ALLDAYEVENT:FALSE
SUMMARY:TherapyWorks - Burnout Workshop
DESCRIPTION:Burnout Workshop   April 22\, 9AM online\n\n\n\nIf you're constantly juggling all the things and feeling like there's nothing left in your tank\, you might be dealing with burnout. And you're definitely not alone.\n\n\n\nJoin us for a free\, one-hour virtual workshop where Marriage and Family Therapist\, Crystal Le will share real examples of what burnout actually looks like (it's not always obvious) and practical tips to help you recognize it in yourself and start to recover.\n\n\n\n??? Wednesday\, April 22nd\n\n? 9 10AM (online)\n\n??? Hosted by Christie Brown and Crystal Le\n\n\n\nI highly recommend listening in to Crystal if you can!\n\n\n\n?? Register at: mytherapyworks.com/workshops
X-ALT-DESC;FMTTYPE=text/html:Burnout Workshop &ndash\; April 22\, 9AM online<br />\n<br />\nIf you&rsquo\;re constantly juggling all the things and feeling like there&rsquo\;s nothing left in your tank\, you might be dealing with burnout. And you&rsquo\;re definitely not alone.<br />\n<br />\nJoin us for a free\, one-hour virtual workshop where Marriage and Family Therapist\, Crystal Le will share real examples of what burnout actually looks like (it&rsquo\;s not always obvious) and practical tips to help you recognize it in yourself&mdash\;and start to recover.<br />\n<br />\n??? Wednesday\, April 22nd<br />\n? 9&ndash\;10AM (online)<br />\n??? Hosted by Christie Brown and Crystal Le<br />\n<br />\nI highly recommend listening in to Crystal if you can!<br />\n<br />\n?? Register at: mytherapyworks.com/workshops
LOCATION:Online
UID:e.286.18709
SEQUENCE:3
DTSTAMP:20260422T010737Z
URL:https://www.losgatoschamber.com/events/details/therapyworks-burnout-workshop-18709
END:VEVENT

END:VCALENDAR
