BEGIN:VCALENDAR
VERSION:2.0
PRODID:-//ChamberMaster//Event Calendar 2.0//EN
METHOD:PUBLISH
X-PUBLISHED-TTL:P3D
REFRESH-INTERVAL:P3D
CALSCALE:GREGORIAN
BEGIN:VEVENT
DTSTART:20260429T160000Z
DTEND:20260429T170000Z
X-MICROSOFT-CDO-ALLDAYEVENT:FALSE
SUMMARY:Spark Session: Informational Therapy Webinar
DESCRIPTION:Are you curious about how therapy can help?\n\nJoin us for this month's FREE virtual informational Spark Session!\n\n\n\nSpark Sessions are a series of virtual drop-in info sessions hosted by TherapyWorks' Client Care Coordinator alongside our Community Relations Manager. These sessions are designed to encourage and guide you toward better mental health\, because when you feel better\, you live better.\n\n\n\nEach complimentary session offers a welcoming and supportive space to explore the therapy process and experience.\n\n\n\nLearn more and register for an upcoming session at mytherapyworks.com/spark
X-ALT-DESC;FMTTYPE=text/html:<div>\n<div>Are you curious about how therapy can help?<br />\nJoin us for this month&#39\;s FREE virtual informational Spark Session!</div>\n\n<div><br />\nSpark Sessions are a series of virtual drop-in info sessions hosted by TherapyWorks&#39\; Client Care Coordinator alongside our Community Relations Manager. These sessions are designed to encourage and guide you toward better mental health\, because when you feel better\, you live better.</div>\n\n<div><br />\nEach complimentary session offers a welcoming and supportive space to explore the therapy process and experience.</div>\n\n<div><br />\nLearn more and register for an upcoming session at&nbsp\;<a href="https://l.facebook.com/l.php?u=http%3A%2F%2Fmytherapyworks.com%2Fspark%3Ffbclid%3DIwZXh0bgNhZW0CMTAAAR7z5SdYLdxq6umSCuHO181fAK4t8jY_XkB9qVGTNCp1Bs3qhiVfYR8-fuvavA_aem_kGj1NL2uh6vt5j9UDvH4jA&amp\;h=AT3onbLcH11cX1wWvmNgh8V1hmytjBJgCPb6W-_FLZCWhLRwLw5n6Ypj6P4CsQM8XUnvfoZGxrulQ5l3mu8RcC21zdzh-bAIS4OxzuqL1-Q3AgJ1dFWu164ILe3C5iFODI3f8PWeEjD53QSG0dS8rlXcRQ&amp\;__tn__=q&amp\;c[0]=AT3XhTN64GjhjtW1SvP-Sv3eBXKqkQHaK8OtfIK51I6LoadJUfI7j56seWf6lieOs70-uOn4cLqplDyBiRqyduqfT53Y0n2_6CctxfjyJxMfirU2CRif6EqoVTuJUbGmKzlNkLtI50MqbGpaLSoHPEjgmwLYrmBBGDWMrw" rel="nofollow noreferrer" style="color: rgb(0\, 100\, 209)\; box-sizing: border-box\; background-color: transparent\; text-decoration-line: none\; list-style: none\; margin: 0px\; text-align: inherit\; border-style: none\; padding: 0px\; border-width: 0px\; outline: none\; font-weight: 600\; display: inline\; font-family: inherit\;" target="_blank">mytherapyworks.com/spark</a>&nbsp\;</div>\n</div>\n
LOCATION:Online
UID:e.286.17891
SEQUENCE:3
DTSTAMP:20260422T010737Z
URL:https://www.losgatoschamber.com/events/details/spark-session-informational-therapy-webinar-04-29-2026-17891
END:VEVENT

END:VCALENDAR
