BEGIN:VCALENDAR
VERSION:2.0
PRODID:-//ChamberMaster//Event Calendar 2.0//EN
METHOD:PUBLISH
X-PUBLISHED-TTL:P3D
REFRESH-INTERVAL:P3D
CALSCALE:GREGORIAN
BEGIN:VEVENT
DTSTART:20260508T003000Z
DTEND:20260508T023000Z
X-MICROSOFT-CDO-ALLDAYEVENT:FALSE
SUMMARY:Social at Centerpiece: Los Gatos Women's Networking Group
DESCRIPTION:Join us for our May Social at Centerpiece Flowers - open to all\, not just group members\, so be sure to invite friends!\n\n\n\nLos Gatos Women's Networking Group empowers and supports women business owners and leaders in the Los Gatos community by fostering meaningful connections\, sharing resources\, and providing opportunities for growth. Together\, we aim to build a collaborative network that uplifts each other and drives success for all members.
X-ALT-DESC;FMTTYPE=text/html:Join us for our May Social at Centerpiece Flowers - open to all\, not just group members\, so be sure to invite friends!<br />\n<br />\n<strong><a href="https://www.losgatoschamber.com/womens-networking">Los Gatos Women&#39\;s Networking Group</a><strong> </strong>empowers and supports women business owners and leaders in the Los Gatos community by fostering meaningful connections\, sharing resources\, and providing opportunities for growth. Together\, we aim to build a collaborative network that uplifts each other and drives success for all members.</strong>
LOCATION:Centerpiece Flowers 242 N Santa Cruz Ave Los Gatos\, CA
UID:e.286.18708
SEQUENCE:3
DTSTAMP:20260421T022144Z
URL:https://www.losgatoschamber.com/events/details/social-at-centerpiece-los-gatos-women-s-networking-group-18708
END:VEVENT

END:VCALENDAR
