BEGIN:VCALENDAR
VERSION:2.0
PRODID:-//ChamberMaster//Event Calendar 2.0//EN
METHOD:PUBLISH
X-PUBLISHED-TTL:P3D
REFRESH-INTERVAL:P3D
CALSCALE:GREGORIAN
BEGIN:VEVENT
DTSTART:20230601T233000Z
DTEND:20230602T020000Z
X-MICROSOFT-CDO-ALLDAYEVENT:FALSE
SUMMARY:Ribbon Cutting - Salt & Straw
DESCRIPTION:Join us for a Ribbon Cutting as we welcome Salt & Straw to Los Gatos. Mayor Ristow will cut the ribbon at 4:300pm. \n\n\n\nSalt & Straw's Mission is to use ice cream as a platform to share and pioneer experiences that inspire and connect us all. They make unbelievable ice cream - by hand\, with unthinkable care. They explore the history of flavor and discovery of emerging artisans\, and see ice cream as a blank slate for storytelling. Their shops bring people together over a scoop. A neighborhood gathering place where you can share and learn more about yourself and your community.
X-ALT-DESC;FMTTYPE=text/html:<div style=""><span style="font-size: 16px\;">Join us for a Ribbon Cutting&nbsp\;as we welcome Salt &amp\; Straw to Los Gatos.&nbsp\;Mayor Ristow will cut the ribbon at 4:300pm.&nbsp\;<br />\n<br />\nSalt &amp\; Straw&#39\;s Mission is to use ice cream as a platform to share and pioneer experiences that inspire and connect us all. They make unbelievable ice cream - by hand\, with unthinkable care. They explore the history of flavor and discovery of emerging artisans\, and see ice cream as a blank slate for storytelling. Their shops bring people together over a scoop. A neighborhood gathering place where you can share and learn more about yourself and your community.</span></div>\n
LOCATION:Old Town 50 University Avenue Los Gatos
UID:e.286.15569
SEQUENCE:3
DTSTAMP:20260420T213111Z
URL:https://www.losgatoschamber.com/events/details/ribbon-cutting-salt-straw-15569
END:VEVENT

END:VCALENDAR
