BEGIN:VCALENDAR
VERSION:2.0
PRODID:-//ChamberMaster//Event Calendar 2.0//EN
METHOD:PUBLISH
X-PUBLISHED-TTL:P3D
REFRESH-INTERVAL:P3D
CALSCALE:GREGORIAN
BEGIN:VEVENT
DTSTART:20241030T000000Z
DTEND:20241030T010000Z
X-MICROSOFT-CDO-ALLDAYEVENT:FALSE
SUMMARY:Ribbon Cutting - Discovery Shop
DESCRIPTION:Join us for a Ribbon Cutting Ceremony as we celebrate the grand reopening of the Discovery Shop Los Gatos at its new location on Tuesday\, October 29. Mayor Badame will cut the ribbon at 5pm.\n\nThe Discovery Shop\, operated by the American Cancer Society\, is a beloved upscale resale store offering high-quality\, gently used merchandise. Located in the heart of Los Gatos\, the shop supports the fight against cancer through its sales. Come and explore our new space\, enjoy light refreshments\, and take advantage of special discounts throughout the day. We look forward to welcoming you and celebrating this exciting new chapter together!
X-ALT-DESC;FMTTYPE=text/html:<div style="">\n<p style="padding: 0px\; margin: 12px 0px 0px\; word-break: break-word\; font-size: 16px\; line-height: var(--cib-type-body2-line-height)\; font-variation-settings: var(--cib-type-body2-font-variation-settings)\; color: rgb(17\, 17\, 17)\; font-family: -apple-system\, Roboto\, SegoeUI\, &quot\;Segoe UI&quot\;\, &quot\;Helvetica Neue&quot\;\, Helvetica\, &quot\;Microsoft YaHei&quot\;\, &quot\;Meiryo UI&quot\;\, Meiryo\, &quot\;Arial Unicode MS&quot\;\, sans-serif\;"><span style="font-size: var(--cib-type-subtitle2-stronger-font-size)\; line-height: var(--cib-type-subtitle2-stronger-line-height)\; font-weight: var(--cib-type-subtitle2-stronger-font-weight)\; font-variation-settings: var(--cib-type-subtitle2-stronger-font-variation-settings)\;">Join us for a Ribbon Cutting Ceremony</span>&nbsp\;as we celebrate the grand reopening of the Discovery Shop Los Gatos at its new location on Tuesday\, October 29. Mayor Badame will cut the ribbon at 5pm.</p>\n\n<p style="padding: 0px\; margin: 12px 0px 0px\; word-break: break-word\; font-size: 16px\; line-height: var(--cib-type-body2-line-height)\; font-variation-settings: var(--cib-type-body2-font-variation-settings)\; color: rgb(17\, 17\, 17)\; font-family: -apple-system\, Roboto\, SegoeUI\, &quot\;Segoe UI&quot\;\, &quot\;Helvetica Neue&quot\;\, Helvetica\, &quot\;Microsoft YaHei&quot\;\, &quot\;Meiryo UI&quot\;\, Meiryo\, &quot\;Arial Unicode MS&quot\;\, sans-serif\;">The Discovery Shop\, operated by the American Cancer Society\, is a beloved upscale resale store offering high-quality\, gently used merchandise. Located in the heart of Los Gatos\, the shop supports the fight against cancer through its sales. Come and explore our new space\, enjoy light refreshments\, and take advantage of special discounts throughout the day. We look forward to welcoming you and celebrating this exciting new chapter together!</p>\n\n<p style="margin: 0px\; padding: 0px\; text-align: center\;">&nbsp\;</p>\n</div>\n
LOCATION:150 W. Main Street Los Gatos\, CA 95030
UID:e.286.15780
SEQUENCE:3
DTSTAMP:20260422T100318Z
URL:https://www.losgatoschamber.com/events/details/ribbon-cutting-discovery-shop-15780
END:VEVENT

END:VCALENDAR
