BEGIN:VCALENDAR
VERSION:2.0
PRODID:-//ChamberMaster//Event Calendar 2.0//EN
METHOD:PUBLISH
X-PUBLISHED-TTL:P3D
REFRESH-INTERVAL:P3D
CALSCALE:GREGORIAN
BEGIN:VEVENT
DTSTART:20170915T003000Z
DTEND:20170915T020000Z
X-MICROSOFT-CDO-ALLDAYEVENT:FALSE
SUMMARY:Mixer at Whitney Modern hosted by Irish Writers Festival
DESCRIPTION:Join us for our next Mixer at Whitney Modern\, hosted by the Irish Writers Festival!\n\nWhitney Modern is a contemporary fine art gallery in the heart of downtown Los Gatos.  Enjoy the thought proving works of art from internationally recognized and emerging artists.\n\nThe Irish Writers Festival is our host\, showcases their writers who will be celebrated at their upcoming Festival in October.  Wine\, beer and bites will be served.\n\nDon't forget to bring your business cards for a fun door prize and try your hand at a raffle prize! Spaces are limited\, please RSVP. $10 for Members & $20 Prospective Members. RSVP Required.
X-ALT-DESC;FMTTYPE=text/html:<p><span style="font-size:12px\;"><span style="font-family: tahoma\;">Join us for our&nbsp\;next Mixer&nbsp\;at Whitney Modern\, hosted by the Irish Writers Festival!</span></span></p>\n\n<p><span style="font-size:12px\;"><span style="font-family: tahoma\;">Whitney Modern is a contemporary fine art gallery in the heart of downtown Los Gatos. &nbsp\;Enjoy the thought proving works of art from internationally recognized&nbsp\;and emerging artists.<br />\nThe Irish Writers Festival is our host\, showcases their writers who will be celebrated at their upcoming Festival in October. &nbsp\;Wine\, beer and bites will be served.</span></span></p>\n\n<p><span style="font-size:12px\;">Don&#39\;t forget to bring your business cards for a fun door prize and try your hand at a raffle prize! Spaces are limited\, please RSVP. $10 for Members &amp\; $20 Prospective Members. RSVP Required.</span></p>\n
LOCATION:Whitney Modern 24 N. Santa Cruz Avenue\, 2nd floor Los Gatos\, CA 95032
UID:e.286.9798
SEQUENCE:3
DTSTAMP:20260423T013409Z
URL:https://www.losgatoschamber.com/events/details/mixer-at-whitney-modern-hosted-by-irish-writers-festival-9798
END:VEVENT

END:VCALENDAR
