BEGIN:VCALENDAR
VERSION:2.0
PRODID:-//ChamberMaster//Event Calendar 2.0//EN
METHOD:PUBLISH
X-PUBLISHED-TTL:P3D
REFRESH-INTERVAL:P3D
CALSCALE:GREGORIAN
BEGIN:VEVENT
DTSTART:20240502T190000Z
DTEND:20240502T200000Z
X-MICROSOFT-CDO-ALLDAYEVENT:FALSE
SUMMARY:Member Education: Employment Law 2024
DESCRIPTION:This seminar\, hosted by the Los Gatos Chamber and the Campbell Chamber\, will focus on the latest laws that will impact your organization and how to update your policies and practices to stay in compliance. \n\n \n\nJoin one of the partners of Sweeney Mason LLP as they present new California employment related laws. This year as with every new year\, California employers face dozens of new employment-related laws that govern the workplace. Sweeney Mason LLP will review some of the changes for 2024\; including increased mandatory paid sick leave\, reproductive loss leave\, and new restrictions on cannabis testing\, just to name a few.
X-ALT-DESC;FMTTYPE=text/html:<p style="margin: 0px\; padding: 0px\; color: rgb(26\, 26\, 26)\; font-family: Arial\, Verdana\, Helvetica\, sans-serif\; font-size: 14px\; white-space-collapse: preserve\;"><span style="color: rgb(29\, 56\, 115)\; font-size: 15px\;">&#65279\;This seminar\, hosted by the Los Gatos Chamber and the Campbell Chamber\, will focus on the latest laws that will impact your organization and how to update your policies and practices to stay in compliance.&nbsp\;</span></p>\n\n<p style="margin: 0px\; padding: 0px\; color: rgb(26\, 26\, 26)\; font-family: Arial\, Verdana\, Helvetica\, sans-serif\; font-size: 14px\; white-space-collapse: preserve\;">&nbsp\;</p>\n\n<p style="margin: 0px\; padding: 0px\; color: rgb(26\, 26\, 26)\; font-family: Arial\, Verdana\, Helvetica\, sans-serif\; font-size: 14px\; white-space-collapse: preserve\;"><span style="font-size: 15px\; color: rgb(29\, 56\, 115)\;">Join one of the </span><span style="font-size: 15px\; color: rgb(29\, 56\, 115)\;">partners of Sweeney Mason LLP as they present new California employment related laws. </span><span style="font-size: 15px\; color: rgb(29\, 56\, 115)\;">This year as with every new year\, California employers face dozens of new employment-related laws that govern the workplace. Sweeney Mason LLP will review some of the changes for 2024\; including increased mandatory paid sick leave\, reproductive loss leave\, and new restrictions on cannabis testing\, just to name a few. </span></p>\n\n<p style="margin: 0px\; padding: 0px\; color: rgb(26\, 26\, 26)\; font-family: Arial\, Verdana\, Helvetica\, sans-serif\; font-size: 14px\; white-space-collapse: preserve\;">&nbsp\;</p>\n\n<p style="margin: 0px\; padding: 0px\; color: rgb(26\, 26\, 26)\; font-family: Arial\, Verdana\, Helvetica\, sans-serif\; font-size: 14px\; white-space-collapse: preserve\;">&nbsp\;</p>\n
LOCATION:In Person or Online! In Person: Los Gatos Chamber of Commerce\, 10 Station Way Online: Please register and email chamber@losgatoschamber.com to let us know you'll be joining remotely.
UID:e.286.15729
SEQUENCE:3
DTSTAMP:20260422T044642Z
URL:https://www.losgatoschamber.com/events/details/member-education-employment-law-2024-15729
END:VEVENT

END:VCALENDAR
