BEGIN:VCALENDAR
VERSION:2.0
PRODID:-//ChamberMaster//Event Calendar 2.0//EN
METHOD:PUBLISH
X-PUBLISHED-TTL:P3D
REFRESH-INTERVAL:P3D
CALSCALE:GREGORIAN
BEGIN:VEVENT
DTSTART:20280510T150000Z
DTEND:20280510T160000Z
X-MICROSOFT-CDO-ALLDAYEVENT:FALSE
SUMMARY:Los Gatos Women's Networking Group: Monthly Meeting
DESCRIPTION:Los Gatos Women's Networking Group empowers and supports women business owners and leaders in the Los Gatos community by fostering meaningful connections\, sharing resources\, and providing opportunities for growth. Together\, we aim to build a collaborative network that uplifts each other and drives success for all members.
X-ALT-DESC;FMTTYPE=text/html:<a href="https://www.losgatoschamber.com/womens-networking"><strong>Los Gatos Women&#39\;s Networking Group</strong></a><strong> </strong><strong>empowers and supports women business owners and leaders in the Los Gatos community by fostering meaningful connections\, sharing resources\, and providing opportunities for growth. Together\, we aim to build a collaborative network that uplifts each other and drives success for all members.</strong>
LOCATION:Los Gatos Chamber of Commerce
UID:e.286.16175
SEQUENCE:3
DTSTAMP:20260419T223439Z
URL:https://www.losgatoschamber.com/events/details/los-gatos-women-s-networking-group-monthly-meeting-05-10-2028-16175
END:VEVENT

END:VCALENDAR
