BEGIN:VCALENDAR
VERSION:2.0
PRODID:-//ChamberMaster//Event Calendar 2.0//EN
METHOD:PUBLISH
X-PUBLISHED-TTL:P3D
REFRESH-INTERVAL:P3D
CALSCALE:GREGORIAN
BEGIN:VEVENT
DTSTART:20260522T180000Z
DTEND:20260522T184500Z
X-MICROSOFT-CDO-ALLDAYEVENT:FALSE
SUMMARY:Los Gatos Circa 1960
DESCRIPTION:Learn more about Los Gatos in the 1960s with Amy Long\, curator of our current exhibition\, I Know A Place. Amy will also share her experiences living in Los Gatos in the 60s. We'd love to hear your stories\, too!
X-ALT-DESC;FMTTYPE=text/html:<span style="color:rgb(107\, 109\, 112)\; font-family:helvetica neue\,arial\,sans-serif\; font-size:14px">Learn more about Los Gatos in the 1960s with Amy Long\, curator of our current exhibition\, </span><em>I Know A Place</em><span style="color:rgb(107\, 109\, 112)\; font-family:helvetica neue\,arial\,sans-serif\; font-size:14px">. Amy will also share her experiences living in Los Gatos in the 60s.&nbsp\;We&#39\;d love to hear your stories\, too!</span>
LOCATION:NUMU | 106 E. Main Street\, Los Gatos\, CA\, 95030
UID:e.286.17903
SEQUENCE:3
DTSTAMP:20260422T010515Z
URL:https://www.losgatoschamber.com/events/details/los-gatos-circa-1960-17903
END:VEVENT

END:VCALENDAR
