BEGIN:VCALENDAR
VERSION:2.0
PRODID:-//ChamberMaster//Event Calendar 2.0//EN
METHOD:PUBLISH
X-PUBLISHED-TTL:P3D
REFRESH-INTERVAL:P3D
CALSCALE:GREGORIAN
BEGIN:VEVENT
DTSTART:20240921T170000Z
DTEND:20240923T013000Z
X-MICROSOFT-CDO-ALLDAYEVENT:FALSE
SUMMARY:Los Gatos Art & Wine\, Fiesta 2024
DESCRIPTION:Kiwanis Club of Los Gatos hosts their annual Los Gatos Art & Wine\, Fiesta 2024!  Offering free concerts by great local bands\, 100's of artists and local vendors\, fabulous award-winning local wines...it is simply one of the best art and wine festivals around! In beautiful downtown Los Gatos\, on the Civic Center Lawn\, it is truly a fantastic weekend!  ALL funds raised by this FREE and FUN event go back into the community to benefit Local Youth Programs\, including Student Leadership & Community Service Clubs\, Scholarships for at-risk teens\, Special Games for special needs youth in Silicon Valley\, and more.
X-ALT-DESC;FMTTYPE=text/html:<p>Kiwanis Club of Los Gatos hosts their annual Los Gatos Art &amp\; Wine\, Fiesta 2024! &nbsp\;Offering free concerts by great local bands\, 100&#39\;s of artists and local vendors\, fabulous award-winning local wines...it is simply one of the best art and wine festivals around! In beautiful downtown Los Gatos\, on the Civic Center Lawn\, it is truly a fantastic weekend! &nbsp\;ALL funds raised by this FREE and FUN event go back into the community to benefit Local Youth Programs\, including Student Leadership &amp\; Community Service Clubs\, Scholarships for at-risk teens\, Special Games for special needs youth in Silicon Valley\, and more.</p>\n
LOCATION:Los Gatos Civic Center Lawn\, 110 E Main Street\, Los Gatos CA 95032
UID:e.286.15046
SEQUENCE:3
DTSTAMP:20260421T083446Z
URL:https://www.losgatoschamber.com/events/details/los-gatos-art-wine-festival-fiesta-de-artes-09-21-2024-15046
END:VEVENT

END:VCALENDAR
