BEGIN:VCALENDAR
VERSION:2.0
PRODID:-//ChamberMaster//Event Calendar 2.0//EN
METHOD:PUBLISH
X-PUBLISHED-TTL:P3D
REFRESH-INTERVAL:P3D
CALSCALE:GREGORIAN
BEGIN:VEVENT
DTSTART:20260507T180000Z
DTEND:20260507T220000Z
X-MICROSOFT-CDO-ALLDAYEVENT:FALSE
SUMMARY:Exclusive Skin Analysis Event
DESCRIPTION:Call to reserve your spot or stop in to receive a one on one consultation with our Obagi Medical Educator\, using our state-of-art Optic Slim Camera\, and learn which Obagi products work best for you!\n\n\n\n  20% OFF all Obagi products\n\n\n\n  Receive a FREE GIFT with\n\npurchase
X-ALT-DESC;FMTTYPE=text/html:Call to reserve your spot or stop in to receive a one on one consultation with our Obagi Medical Educator\, using our state-of-art Optic Slim Camera\, and learn which Obagi products work best for you!<br />\n<br />\n&bull\; 20% OFF all Obagi products<br />\n<br />\n&bull\; Receive a FREE GIFT with<br />\npurchase
LOCATION:15575 Los Gatos Blvd. #A Los Gatos\, CA 95032
UID:e.286.17893
SEQUENCE:3
DTSTAMP:20260422T011111Z
URL:https://www.losgatoschamber.com/events/details/exclusive-skin-analysis-event-17893
END:VEVENT

END:VCALENDAR
