BEGIN:VCALENDAR
VERSION:2.0
PRODID:-//ChamberMaster//Event Calendar 2.0//EN
METHOD:PUBLISH
X-PUBLISHED-TTL:P3D
REFRESH-INTERVAL:P3D
CALSCALE:GREGORIAN
BEGIN:VEVENT
DTSTART;VALUE=DATE:20190522
DTEND;VALUE=DATE:20190523
TRANSP:TRANSPARENT
X-MICROSOFT-CDO-ALLDAYEVENT:TRUE
SUMMARY:"EAT FOR A CAUSE" at Willow Street Pizza\, Los Gatos
DESCRIPTION:Willow Street Wood-Fired Pizza in Los Gatos will donate to The EMQ Auxiliary 20% of your take-out or dine-in food and beverages purchase on May 22nd . The volunteers of the Auxiliary run The Butter Paddle Gift and Home Decor shop in Downtown Los Gatos. All Proceeds from the store and other fundraisers\, such as "Eat For A Cause"\, help support local children and families in crisis through Uplift Family Services.  To participate in the fundraiser\, pick up a flyer at The Butter Paddle and present it to your server when making your order. The offer is good all day on May 22\, 2019.
X-ALT-DESC;FMTTYPE=text/html:<strong>Willow Street Wood-Fired Pizza in Los Gatos will donate to The EMQ Auxiliary&nbsp\;20% of your take-out or dine-in food and beverages purchase on May 22nd . </strong>The volunteers of the Auxiliary run <strong>The Butter Paddle </strong>Gift and Home Decor shop in Downtown Los Gatos. <u>All Proceeds from the store and other fundraisers\, such as &quot\;Eat For A Cause&quot\;\, help support local children and families in crisis through Uplift Family Services.</u>&nbsp\;&nbsp\;To participate in the fundraiser\, pick up a flyer at The Butter Paddle and present it to your server when making your order. The offer is good all day on May 22\, 2019.&nbsp\;
LOCATION:Willow Street Wood-Fired Pizza 20 South Santa Cruz Ave. Los Gatos\, CA 95030
UID:e.286.14035
SEQUENCE:3
DTSTAMP:20260424T153233Z
URL:https://www.losgatoschamber.com/events/details/eat-for-a-cause-at-willow-street-pizza-los-gatos-14035
END:VEVENT

END:VCALENDAR
