BEGIN:VCALENDAR
VERSION:2.0
PRODID:-//ChamberMaster//Event Calendar 2.0//EN
METHOD:PUBLISH
X-PUBLISHED-TTL:P3D
REFRESH-INTERVAL:P3D
CALSCALE:GREGORIAN
BEGIN:VEVENT
DTSTART:20201002T200000Z
DTEND:20201002T213000Z
X-MICROSOFT-CDO-ALLDAYEVENT:FALSE
SUMMARY:Digital Marketing Webinar - October 2\, 2020
DESCRIPTION:Facebook Event Planning and Promotion - CANCELLED\n\n\n\n	How to set up Facebook Events\n	Linking to website\n	Promotion through Facebook Ads\n	Zoom Integration with Facebook Live\n\n\n\nPresented by Sofya Elperin-Smirnov\, Elperin Consulting\n\nSofya Elperin-Smirnov is the owner/consultant of Elperin Consulting.\n\nHer specialty is local small business. Sofya offers digital marketing training\, consulting and full marketing management.  She is an expert in paid search ads\, email marketing\, social media\, content creation\, website optimization and all digital and traditional marketing channels. She has been working in marketing and advertising for over 15 years. She started out at ad agencies in NYC and in recent years startups in Bay Area. Her passion is helping small business owners meet their business goals through marketing.
X-ALT-DESC;FMTTYPE=text/html:<div style="text-align: center\;">\n<h3 font-size:="" lucida="" sans="" style="color: rgb(26\, 26\, 26)\;" text-align:="" white-space:=""><strong>Facebook Event Planning and Promotion - <span style="color:#FF0000\;">CANCELLED</span></strong></h3>\n</div>\n\n<ul>\n	<li>How to set up Facebook Events</li>\n	<li>Linking to website</li>\n	<li>Promotion through Facebook Ads</li>\n	<li>Zoom Integration with Facebook Live</li>\n</ul>\n<br />\nPresented by <strong>Sofya&nbsp\;Elperin-Smirnov\, Elperin Consulting</strong><br />\nSofya Elperin-Smirnov is the owner/consultant of Elperin Consulting.<br />\nHer specialty is local small business. Sofya offers digital marketing training\, consulting and full marketing management.&nbsp\; She is an expert in paid search ads\, email marketing\, social media\, content creation\, website optimization and all digital and traditional marketing channels. She has been working in marketing and advertising for over 15 years. She started out at ad agencies in NYC and in recent years startups in Bay Area. Her passion is helping small business owners meet their business goals through marketing.&nbsp\;\n<div style="text-align: center\;">&nbsp\;</div>\n
LOCATION:Via Zoom
UID:e.286.14802
SEQUENCE:3
DTSTAMP:20260422T102854Z
URL:https://www.losgatoschamber.com/events/details/digital-marketing-webinar-october-2-2020-14802
END:VEVENT

END:VCALENDAR
