BEGIN:VCALENDAR
VERSION:2.0
PRODID:-//ChamberMaster//Event Calendar 2.0//EN
METHOD:PUBLISH
X-PUBLISHED-TTL:P3D
REFRESH-INTERVAL:P3D
CALSCALE:GREGORIAN
BEGIN:VEVENT
DTSTART:20200710T080000Z
DTEND:20200710T093000Z
X-MICROSOFT-CDO-ALLDAYEVENT:FALSE
SUMMARY:Digital Marketing Webinar - July 10\, 2020
DESCRIPTION:Your Website & Basic Optimization\n\nusing Squarespace (and other website builders)\n\n\n\n\n\nExamine a website and fundamental elements of good design and optimization. The workshop will be using the Squarespace Website Builder\, and showcasing the features available to you on Squarespace. Most website builders (WIX\, GoDaddy) have similar features.\n\n \n\nThis webinar is great if:\n\n\n	You don't have a website.\n	You have a website but feel it needs improvement.\n	You have a website and use Squarespace.\n	You just created a website with Squarespace but need additional guidance on the platform. \n\nPresented by Sofya Elperin-Smirnov\, Elperin Consulting\n\nSofya Elperin-Smirnov is the owner/consultant of Elperin Consulting.\n\nHer specialty is local small business. Sofya offers digital marketing training\, consulting and full marketing management.  She is an expert in paid search ads\, email marketing\, social media\, content creation\, website optimization and all digital and traditional marketing channels. She has been working in marketing and advertising for over 15 years. She started out at ad agencies in NYC and in recent years startups in Bay Area. Her passion is helping small business owners meet their business goals through marketing.
X-ALT-DESC;FMTTYPE=text/html:<div style="text-align: center\;"><em><strong><span style="font-size:20px\;">Your Website &amp\; Basic Optimization<br />\nusing Squarespace (and other website builders)</span></strong></em></div>\n\n<div><br />\n<br />\nExamine a website and fundamental elements of good design and optimization.&nbsp\;The workshop will be&nbsp\;using the Squarespace Website Builder\, and showcasing&nbsp\;the features available to you on&nbsp\;Squarespace. Most website builders (WIX\, GoDaddy) have similar features.<br />\n&nbsp\;<br />\nThis webinar is great if:</div>\n\n<ul>\n	<li>You don&#39\;t have a website.</li>\n	<li>You have a website but feel it needs improvement.</li>\n	<li>You have a website and use Squarespace.</li>\n	<li>You just created a website with Squarespace but need additional guidance on the platform.&nbsp\;</li>\n</ul>\nPresented by <strong>Sofya&nbsp\;Elperin-Smirnov\, Elperin Consulting</strong><br />\nSofya Elperin-Smirnov is the owner/consultant of Elperin Consulting.<br />\nHer specialty is local small business. Sofya offers digital marketing training\, consulting and full marketing management.&nbsp\; She is an expert in paid search ads\, email marketing\, social media\, content creation\, website optimization and all digital and traditional marketing channels. She has been working in marketing and advertising for over 15 years. She started out at ad agencies in NYC and in recent years startups in Bay Area. Her passion is helping small business owners meet their business goals through marketing.&nbsp\;\n<div style="text-align: center\;">&nbsp\;</div>\n
LOCATION:Chamber of Commerce 10 Station Way Los Gatos
UID:e.286.14758
SEQUENCE:3
DTSTAMP:20260422T132259Z
URL:https://www.losgatoschamber.com/events/details/digital-marketing-webinar-july-10-2020-14758
END:VEVENT

END:VCALENDAR
