BEGIN:VCALENDAR
VERSION:2.0
PRODID:-//ChamberMaster//Event Calendar 2.0//EN
METHOD:PUBLISH
X-PUBLISHED-TTL:P3D
REFRESH-INTERVAL:P3D
CALSCALE:GREGORIAN
BEGIN:VEVENT
DTSTART:20190601T200000Z
DTEND:20190601T220000Z
X-MICROSOFT-CDO-ALLDAYEVENT:FALSE
SUMMARY:Come Back\, Give Back
DESCRIPTION:Come Back\, Give Back\n\nSaturday\, June 1st 2019 | 1:00pm - 3:00pm\n\n\n\nIt's Reunion Time! Calling Wildcats everywhere! Meet up at the Sis Boom Bah! galleries and celebrate all things LGHS- stroll through the new and updated exhibits\, bring your yearbook\, share\, over share\, and revel in your teenage years. Give Back like a Wildcat! NUMU invites all visitors to adopt the Wildcat spirit of giving and participate in a drive to collect school supplies for county schools in need. Visit our website for details.
X-ALT-DESC;FMTTYPE=text/html:Come Back\, Give Back<br />\nSaturday\, June 1st 2019 | 1:00pm - 3:00pm<br />\n<br />\nIt&#39\;s Reunion Time! Calling Wildcats everywhere! Meet up at the Sis Boom Bah! galleries and celebrate all things LGHS- stroll through the new and updated exhibits\, bring your yearbook\, share\, over share\, and revel in your teenage years. Give Back like a Wildcat! NUMU invites all visitors to adopt the Wildcat spirit of giving and participate in a drive to collect school supplies for county schools in need. Visit our website for details.<br />\n<br />\n&nbsp\;
LOCATION:New Museum Los Gatos | NUMU 106 East Main Street Los Gatos\, CA 95030
UID:e.286.13573
SEQUENCE:3
DTSTAMP:20260422T180831Z
URL:https://www.losgatoschamber.com/events/details/come-back-give-back-13573
END:VEVENT

END:VCALENDAR
