BEGIN:VCALENDAR
VERSION:2.0
PRODID:-//ChamberMaster//Event Calendar 2.0//EN
METHOD:PUBLISH
X-PUBLISHED-TTL:P3D
REFRESH-INTERVAL:P3D
CALSCALE:GREGORIAN
BEGIN:VEVENT
DTSTART:20171013T010000Z
DTEND:20171013T043000Z
X-MICROSOFT-CDO-ALLDAYEVENT:FALSE
SUMMARY:Annual Dinner 2017
DESCRIPTION:The Board of Directors of the Los Gatos Chamber of Commerce\n\nare pleased to announce the winners and nominees for their\n\nAnnual Dinner and Awards Celebration. \n\n\n\nThis will be a special night as we honor our recipients of\n\nBusiness of the Year 2017\n\nKismet Boutique\, Time Out Clothing & Romantiques Lingerie\n\n\n\nBusiness Person of the Year \n\nLinda Lester\n\n\n\nNon-Profit Organization of the Year\n\nthe nominees are\,\n\nLos Gatos Ballet & Foundation\n\nLos Gatos Lions Club\n\nLos Gatos Morning Rotary Club\n\n Rotary Club of Los Gatos (Afternoon)\n\n \n\nYou decide who will win!  Deadline for voting is Sept.29 at noon\n\nVote for your choice for Non-Profit of the year please click here\, or visit https://www.surveymonkey.com/r/RZQQ7J7  \n\n\n\nMany thanks to our wine sponsor\, Testarossa Winery!
X-ALT-DESC;FMTTYPE=text/html:<div style="text-align: center\;"><span style="font-family:verdana\;"><span style="font-size:14px\;">The Board of Directors of the Los Gatos Chamber of Commerce<br />\nare pleased to announce the winners and nominees for their<br />\nAnnual Dinner and Awards Celebration.&nbsp\;<br />\n<br />\nThis will be a special night as we honor our recipients&nbsp\;of<br />\n<span style="color:#FFA500\;"><span style="font-size:16px\;"><u><strong>Business of the Year 2017</strong></u></span></span><br />\n<span style="font-size:16px\;"><strong>Kismet Boutique\, Time Out Clothing&nbsp\;&amp\; Romantiques Lingerie</strong></span><br />\n<br />\n<span style="color:#FFA500\;"><span style="font-size:16px\;"><u><strong>Business Person of the Year&nbsp\;</strong></u></span></span><br />\n<span style="font-size:16px\;"><strong>Linda Lester</strong></span><br />\n<br />\n<span style="color:#FF8C00\;"><span style="font-size:16px\;"><u><strong>Non-Profit Organization of the Year</strong></u></span></span><br />\nthe nominees are\,</span></span><br />\n<strong><span style="font-size:16px\;"><span style="font-family: verdana\; text-align: center\;">Los Gatos Ballet &amp\; Foundation</span><br />\n<span style="text-align: center\; font-family: verdana\;">Los Gatos Lions Club</span><br style="text-align: center\;" />\n<span style="font-family: verdana\; text-align: center\;">Los Gatos&nbsp\;</span><span style="font-family: verdana\; text-align: center\;">Morning</span><span style="font-family: verdana\; text-align: center\;">&nbsp\;Rotary Club<br />\n&#8203\;</span><span style="font-family:verdana\;">Rotary</span></span><span style="font-family:verdana\;"><span style="font-size:14px\;"><span style="font-size:16px\;"> Club of Los Gatos (Afternoon)</span></span></span></strong><br />\n&nbsp\;</div>\n\n<div><strong><span style="font-size:16px\;"><em><u>You decide who will win! </u>&nbsp\;<span style="color:#008000\;">Deadline for voting is Sept.29 at noon</span><br />\nVote for your choice for Non-Profit of the year please click <a href="https://www.surveymonkey.com/r/RZQQ7J7">here</a>\, or visit&nbsp\;</em><a href="https://www.surveymonkey.com/r/RZQQ7J7">https://www.surveymonkey.com/r/RZQQ7J7&nbsp\;</a>&nbsp\;</span></strong><br />\n<br />\nMany thanks to our wine sponsor\, Testarossa Winery!</div>\n
LOCATION:La Rinconada Country Club 14595 Clearview Drive Los Gatos\, CA 95032
UID:e.286.9824
SEQUENCE:3
DTSTAMP:20260420T213512Z
URL:https://www.losgatoschamber.com/events/details/annual-dinner-2017-9824
END:VEVENT

END:VCALENDAR
