BEGIN:VCALENDAR
VERSION:2.0
PRODID:-//ChamberMaster//Event Calendar 2.0//EN
METHOD:PUBLISH
X-PUBLISHED-TTL:P3D
REFRESH-INTERVAL:P3D
CALSCALE:GREGORIAN
BEGIN:VEVENT
DTSTART:20260129T200000Z
DTEND:20260129T210000Z
X-MICROSOFT-CDO-ALLDAYEVENT:FALSE
SUMMARY:2026 Employment Law Update Seminar
DESCRIPTION:This seminar hosted by the Campbell and Los Gatos Chambers will focus on the 2026 laws that will impact your organization and how to update your policies and practices to stay in compliance presented by Sweeny Mason LLP firm partner\, Rachael Brown.\n\n\n\nRachael is a partner with Sweeney Mason LLP and specializes in labor and employment law. She represents employers in connection with all types of employment related matters arising under both state and federal law\, including wage and hour disputes\, and discrimination\, harassment\, retaliation and wrongful termination claims. She also handles trade secret misappropriation claims and matters involving confidentiality\, customer and employee solicitation\, and unfair competition.
X-ALT-DESC;FMTTYPE=text/html:<span style="font-size:18px\;"><span style="font-family:arial\;">This seminar hosted by the Campbell and Los Gatos Chambers will focus on the 2026 laws that will impact your organization and how to update your policies and practices to stay in compliance presented by <a href="https://www.losgatoschamber.com/list/member/sweeney-mason-llp-794" target="_blank">Sweeny Mason LLP</a> firm partner\, Rachael Brown.<br />\n<br />\nRachael is a partner with Sweeney Mason LLP and specializes in labor and employment law. She represents employers in connection with all types of employment related matters arising under both state and federal law\, including wage and hour disputes\, and discrimination\, harassment\, retaliation and wrongful termination claims. She also handles trade secret misappropriation claims and matters involving confidentiality\, customer and employee solicitation\, and unfair competition.</span></span>
LOCATION:This seminar has two attendance options: In person (Space Limited to 15 people) Los Gatos Chamber Offices 10 Station Way Los Gatos\, CA Virtual via Zoom Virtual via Zoom To register to attend virtually\, CLICK HERE. After registering\, you will receive a confirmation email containing information about joining the meeting. A recording of the seminar will be emailed to everyone who registers. If you are unable to attend\, please register for the virtual version and you'll receive a recording of the event.
UID:e.286.17612
SEQUENCE:3
DTSTAMP:20260425T165249Z
URL:https://www.losgatoschamber.com/events/details/2028-employment-law-update-seminar-17612
END:VEVENT

END:VCALENDAR
